BEGIN:VCALENDAR
VERSION:2.0
PRODID:-//Adaland Mansion - ECPv6.7.0//NONSGML v1.0//EN
CALSCALE:GREGORIAN
METHOD:PUBLISH
X-WR-CALNAME:Adaland Mansion
X-ORIGINAL-URL:https://adaland.org
X-WR-CALDESC:Events for Adaland Mansion
REFRESH-INTERVAL;VALUE=DURATION:PT1H
X-Robots-Tag:noindex
X-PUBLISHED-TTL:PT1H
BEGIN:VTIMEZONE
TZID:UTC
BEGIN:STANDARD
TZOFFSETFROM:+0000
TZOFFSETTO:+0000
TZNAME:UTC
DTSTART:20230101T000000
END:STANDARD
END:VTIMEZONE
BEGIN:VEVENT
DTSTART;TZID=UTC:20230811T100000
DTEND;TZID=UTC:20230812T160000
DTSTAMP:20260422T111450
CREATED:20230706T182221Z
LAST-MODIFIED:20230717T154623Z
UID:1138-1691748000-1691856000@adaland.org
SUMMARY:Adaland Tag Sale
DESCRIPTION:Friday & Saturday -Aug-11th-12th Annual Tag Sale 10:00-4:00pm\, on the Pavilion.  Some of the items available are  Antiques\, Collectibles\, Vintage Items\, Furniture\, Jewelry\, Housewares. Lunch is available\, dessert items available also!  All proceeds go to supporting the running and upkeep of this Historic Mansion!
URL:https://adaland.org/event/annual-summer-tag-sale/
LOCATION:Adaland Mansion\, 324 Mansion Drive\, Philippi\, WV\, 26416\, United States
CATEGORIES:Tag Sale
END:VEVENT
END:VCALENDAR