BEGIN:VCALENDAR
VERSION:2.0
PRODID:-//Adaland Mansion - ECPv6.7.0//NONSGML v1.0//EN
CALSCALE:GREGORIAN
METHOD:PUBLISH
X-WR-CALNAME:Adaland Mansion
X-ORIGINAL-URL:https://adaland.org
X-WR-CALDESC:Events for Adaland Mansion
REFRESH-INTERVAL;VALUE=DURATION:PT1H
X-Robots-Tag:noindex
X-PUBLISHED-TTL:PT1H
BEGIN:VTIMEZONE
TZID:UTC
BEGIN:STANDARD
TZOFFSETFROM:+0000
TZOFFSETTO:+0000
TZNAME:UTC
DTSTART:20250101T000000
END:STANDARD
END:VTIMEZONE
BEGIN:VEVENT
DTSTART;VALUE=DATE:20250511
DTEND;VALUE=DATE:20250512
DTSTAMP:20260423T114653
CREATED:20250430T183010Z
LAST-MODIFIED:20250430T183955Z
UID:1238-1746921600-1747007999@adaland.org
SUMMARY:Mothers Day Buffet Dinner
DESCRIPTION:Our Annual Mother’s Day Dinner is Sunday\, May 11\, 2025\nOur seating times are 1:00\, 2:30\, and 4:00. Please call 304-457-1587 and book your reservation to attend. Cost: $35.00 per person.  Please leave your name\, number and seating time with number of people attending. \n\nOur menu is stuffed chicken breast\, and a pork loin wrapped in bacon with scalloped potatoes\, mashed buttered parsley potatoes\, roasted carrots\, green beans and tossed salad with hot rolls.\n\n\nDesserts are a fruit bar with a chocolate fountain\, plus various cakes and pies.
URL:https://adaland.org/event/mothers-day-buffet-dinner/
END:VEVENT
END:VCALENDAR