BEGIN:VCALENDAR
VERSION:2.0
PRODID:-//Adaland Mansion - ECPv6.7.0//NONSGML v1.0//EN
CALSCALE:GREGORIAN
METHOD:PUBLISH
X-WR-CALNAME:Adaland Mansion
X-ORIGINAL-URL:https://adaland.org
X-WR-CALDESC:Events for Adaland Mansion
REFRESH-INTERVAL;VALUE=DURATION:PT1H
X-Robots-Tag:noindex
X-PUBLISHED-TTL:PT1H
BEGIN:VTIMEZONE
TZID:UTC
BEGIN:STANDARD
TZOFFSETFROM:+0000
TZOFFSETTO:+0000
TZNAME:UTC
DTSTART:20220101T000000
END:STANDARD
END:VTIMEZONE
BEGIN:VEVENT
DTSTART;TZID=UTC:20221211T123000
DTEND;TZID=UTC:20221211T123000
DTSTAMP:20260423T182535
CREATED:20220731T151942Z
LAST-MODIFIED:20221130T153518Z
UID:657-1670761800-1670761800@adaland.org
SUMMARY:Christmas Buffet Dinner Sun. Dec 11th 12:30 Sold Out
DESCRIPTION:Christmas is beautiful at Adaland Mansion and our Buffet Dinner is full of the foods we all love for the holidays. We serve a transitional baked ham and roasted chicken dinner with all the trimmings. We offer our home made desserts along with coffee\, tea or water. All of this and a house that is completely decorated inside and out for the holidays. \nReservations are required for this event and we sell out quickly.  Dinners are $28.00 for adults and $12.00 for children under 12.
URL:https://adaland.org/event/christmas-buffet-dinner-sun-dec-11th-1230/
LOCATION:Adaland Mansion\, 324 Mansion Drive\, Philippi\, WV\, 26416\, United States
CATEGORIES:Buffet Dinner
ATTACH;FMTTYPE=image/jpeg:https://adaland.org/wp-content/uploads/2022/07/Christmas-wedding-drink-table-Adaland-scaled.jpg
END:VEVENT
BEGIN:VEVENT
DTSTART;TZID=UTC:20221211T141500
DTEND;TZID=UTC:20221211T141500
DTSTAMP:20260423T182535
CREATED:20220731T152940Z
LAST-MODIFIED:20221130T153656Z
UID:662-1670768100-1670768100@adaland.org
SUMMARY:Christmas Buffet Dinner Sun. Dec. 11th 2:15Sold Out
DESCRIPTION:Christmas is beautiful at Adaland Mansion and our Buffet Dinner is full of the foods we all love for the holidays. We serve a transitional baked ham and roasted chicken dinner with all the trimmings. We offer our home made desserts along with coffee\, tea or water. All of this and a house that is completely decorated inside and out for the holidays. \nReservations are required. This dinner will sell out fast. Sold Out \nAdult dinners are $28.00 and Children are $12.00.
URL:https://adaland.org/event/christmas-buffet-dinner-sun-dec-11th-215/
CATEGORIES:Buffet Dinner
ATTACH;FMTTYPE=image/jpeg:https://adaland.org/wp-content/uploads/2022/07/Christmas-wedding-drink-table-Adaland-scaled.jpg
END:VEVENT
END:VCALENDAR