BEGIN:VCALENDAR
VERSION:2.0
PRODID:-//Adaland Mansion - ECPv6.7.0//NONSGML v1.0//EN
CALSCALE:GREGORIAN
METHOD:PUBLISH
X-WR-CALNAME:Adaland Mansion
X-ORIGINAL-URL:https://adaland.org
X-WR-CALDESC:Events for Adaland Mansion
REFRESH-INTERVAL;VALUE=DURATION:PT1H
X-Robots-Tag:noindex
X-PUBLISHED-TTL:PT1H
BEGIN:VTIMEZONE
TZID:UTC
BEGIN:STANDARD
TZOFFSETFROM:+0000
TZOFFSETTO:+0000
TZNAME:UTC
DTSTART:20220101T000000
END:STANDARD
END:VTIMEZONE
BEGIN:VEVENT
DTSTART;TZID=UTC:20221018T080000
DTEND;TZID=UTC:20221018T170000
DTSTAMP:20260421T103447
CREATED:20220806T181528Z
LAST-MODIFIED:20220806T183306Z
UID:760-1666080000-1666112400@adaland.org
SUMMARY:House Closed: Tea
DESCRIPTION:We are welcoming the Barbour County Senior Center for a buffet tea.
URL:https://adaland.org/event/house-closed-private-tea/
LOCATION:Adaland Mansion\, 324 Mansion Drive\, Philippi\, WV\, 26416\, United States
CATEGORIES:Tea Service
ATTACH;FMTTYPE=image/jpeg:https://adaland.org/wp-content/uploads/2022/08/Willow-tea-set-scaled.jpg
END:VEVENT
END:VCALENDAR