BEGIN:VCALENDAR
VERSION:2.0
PRODID:-//Adaland Mansion - ECPv6.7.0//NONSGML v1.0//EN
CALSCALE:GREGORIAN
METHOD:PUBLISH
X-ORIGINAL-URL:https://adaland.org
X-WR-CALDESC:Events for Adaland Mansion
REFRESH-INTERVAL;VALUE=DURATION:PT1H
X-Robots-Tag:noindex
X-PUBLISHED-TTL:PT1H
BEGIN:VTIMEZONE
TZID:UTC
BEGIN:STANDARD
TZOFFSETFROM:+0000
TZOFFSETTO:+0000
TZNAME:UTC
DTSTART:20220101T000000
END:STANDARD
END:VTIMEZONE
BEGIN:VEVENT
DTSTART;VALUE=DATE:20220927
DTEND;VALUE=DATE:20220928
DTSTAMP:20260421T091653
CREATED:20220806T174121Z
LAST-MODIFIED:20220806T183547Z
UID:744-1664236800-1664323199@adaland.org
SUMMARY:House closed: Bus Tour
DESCRIPTION:Adaland welcomes several bus tours every year. This day is spent sharing our lovely mansion with visitors across the country in groups of 45 or more. We are closed to the public.
URL:https://adaland.org/event/house-is-closed-privet-event-bus-tour/
LOCATION:Adaland Mansion\, 324 Mansion Drive\, Philippi\, WV\, 26416\, United States
CATEGORIES:Bus Tour
ATTACH;FMTTYPE=image/jpeg:https://adaland.org/wp-content/uploads/2022/06/weddingsbus-tourss-2015-001.jpg
END:VEVENT
END:VCALENDAR